BEGIN:VCALENDAR
VERSION:2.0
PRODID:-//eventon.com NONSGML v1.0//EN
CALSCALE:GREGORIAN
METHOD:PUBLISH
BEGIN:VEVENT
UID:69e8a1a29bd9c
DTSTAMP:20260422T102330Z
DTSTART:20260513
DTEND:20260514
LOCATION:
SUMMARY:VITUR SUMMIT 2026
DESCRIPTION:Vitur Summit es el encuentro estratégico de referencia del Alo
 jamiento Flexible en Europa\,  que reúne a inversores\,  operadores\,  exp
 ertos\,  asociaciones sectoriales\,  destinos y administraciones públicas.
  Con una agenda de alto nivel y un networking diseñado para perfiles decis
 ores\,  el evento facilita la toma de decisiones estratégicas a los direct
 ivos senior[..]\nhttps://almacorp.es/events/vitur-summit-2026/
URL:https://almacorp.es/events/vitur-summit-2026/
END:VEVENT
END:VCALENDAR