BEGIN:VCALENDAR
VERSION:2.0
PRODID:-//eventon.com NONSGML v1.0//EN
CALSCALE:GREGORIAN
METHOD:PUBLISH
BEGIN:VEVENT
UID:69e8a211881cf
DTSTAMP:20260422T102521Z
DTSTART:20260604
DTEND:20260605
LOCATION:
SUMMARY:Global Revenue Forum 2026
DESCRIPTION:En el Global Revenue Forum RF Madrid 2026 se analizarÃ¡n los gr
 andes desafÃ­os y oportunidades a los que se enfrenta la prÃ³xima generaciÃ
 ³n de lÃ­deres comerciales del sector hotelero. A travÃ©s de conversaciones
  abiertas y de alto impacto\,  se compartirÃ¡n estrategias accionables\,  c
 asos reales y una mirada estratÃ©gica al futuro[..]\nhttps://almacorp.es/ev
 ents/global-revenue-forum-2026/
URL:https://almacorp.es/events/global-revenue-forum-2026/
END:VEVENT
END:VCALENDAR