BEGIN:VCALENDAR
VERSION:2.0
PRODID:-//eventon.com NONSGML v1.0//EN
CALSCALE:GREGORIAN
METHOD:PUBLISH
BEGIN:VEVENT
UID:69e8a0988d8fb
DTSTAMP:20260422T101904Z
DTSTART:20260914
DTEND:20260915
LOCATION:
SUMMARY:Urban Living Festival 2026
DESCRIPTION:El Urban Living Festival (ULF) es el punto de encuentro interna
 cional donde se define el futuro de la vida urbana. Un espacio que conecta 
 las grandes transformaciones del sector residencial\,  hotelero y los desar
 rollos de uso mixto con las nuevas demandas sociales\,  tecnológicas y med
 ioambientales que están redefiniendo nuestras ciudades.[..]\nhttps://almac
 orp.es/events/urban-living-festival-2026/
URL:https://almacorp.es/events/urban-living-festival-2026/
END:VEVENT
END:VCALENDAR