BEGIN:VCALENDAR
VERSION:2.0
PRODID:-//eventon.com NONSGML v1.0//EN
CALSCALE:GREGORIAN
METHOD:PUBLISH
BEGIN:VEVENT
UID:69e8a273b0558
DTSTAMP:20260422T102659Z
DTSTART:20260429T070000Z
DTEND:20260429T151500Z
LOCATION:
SUMMARY:SCALE España 2026
DESCRIPTION:SCALE España 2026 es el evento líder para profesionales del a
 lquiler vacacional a corto/medio plazo. Dirigido a gestores con al menos 10
  unidades\,  ofrece formación de alto nivel\,  networking y estrategias pa
 ra escalar negocios en un mercado regulado.\nhttps://almacorp.es/events/sca
 le-espana-2026-bis/
URL:https://almacorp.es/events/scale-espana-2026-bis/
END:VEVENT
END:VCALENDAR